Workbook

Sheet Sheet1
A2: 대구성서산업단지 입주현황(2024.4/4분기)
A4: 1.총괄표
A5: 총면적 (천㎡) | B5: 분양대상면적(천㎡) | E5: 입주 (개) | F5: 가동 (개) | G5: 가동율 (%) | H5: 고 용 (백 명) | K5: 생 산 (십억원) | N5: 수 출 (십억원)
B6: 분양 | C6: 미분양 | D6: 계 | H6: 전년4/4실적 | I6: 당분기 실 적 | J6: 전년 대비(%) | K6: 전년4/4실적 | L6: 당분기 실 적 | M6: 전년 대비(%) | N6: 전년4/4실적 | O6: 당분기 실 적 | P6: 전년 대비(%)
A7: =A54+A101+A147+A193+A239+A285 -> 12365 | B7: =I13 -> 8657 | C7: =O13 -> 0 | D7: =B7 -> 8657 | E7: =D34 -> 3462 | F7: =E34 -> 3130 | G7: =F7/E7*100 -> 90.410168 | H7: 487 | I7: =ROUNDDOWN(K34,-1)/100 -> 482.7 | J7: =I7/H7*100 -> 99.117043 | K7: 4667 | L7: =ROUNDDOWN(D39,-2)/1000 -> 4756.3 | M7: =L7/K7*100 -> 101.91343 | N7: 890 | O7: =ROUNDDOWN(M39,-2)/1000 -> 982.8 | P7: =O7/N7*100 -> 110.42697
A9: 2. 조성 및 분양 (단위 : 천㎡)
A10: 구 분 | C10: 총 면 적 | E10: 조 성 대 상 면 적 | I10: 분 양 대 상 면 적 | P10: 평당 분양가 (원/평)
E11: 조성 | F11: 미조성 | G11: 계 | I11: 분 양 면 적 | M11: 미 분 양 면 적
I12: 조성 | J12: 미조성 | K12: 계 | M12: 조성 | N12: 미조성 | O12: 계
A13: 계 | C13: =SUM(C14:C18) -> 12365 | E13: =SUM(E14:E18) -> 12365 | F13: =SUM(F14:F18) -> 0 | G13: =SUM(E13:F13) -> 12365 | I13: =SUM(I14:I18) -> 8657 | J13: =SUM(J14:J18) -> 0 | K13: =SUM(I13:J13) -> 8657
A14: 산 업 용 지 | C14: =E14 -> 7469 | E14: =C61+C108+C154+C200+C246+C292 -> 7469 | F14: =F61+F108+F154+F200+F246+F292 -> 0 | G14: =SUM(E14:F14) -> 7469 | I14: =I61+I108+I154+I200+I246+I292 -> 7478 | J14: =J61+J108+J154+J200+J246+J292 -> 0 | K14: =SUM(I14:J14) -> 7478
A15: 복 합 용 지 | C15: =E15 -> 11 | E15: =C62 -> 11 | F15: =F62 -> 0 | G15: =SUM(E15:F15) -> 11 | I15: =I62 -> 11 | J15: =J62 -> 0 | K15: =SUM(I15:J15) -> 11
A16: 지 원 용 지 | C16: =E16 -> 1202 | E16: =C63+C109+C155+C201+C247+C293 -> 1202 | F16: =F63+F109+F155+F201+F247+F293 -> 0 | G16: =SUM(E16:F16) -> 1202 | I16: =I63+I109+I155+I201+I247+I293 -> 1168 | J16: =J63+J109+J155+J201+J247+J293 -> 0 | K16: =SUM(I16:J16) -> 1168
A17: 공 공 용 지 | C17: =E17 -> 2920 | E17: =C64+C110+C156+C202+C248+C294 -> 2920 | F17: =F64+F110+F156+F202+F248+F294 -> 0 | G17: =SUM(E17:F17) -> 2920
A18: 녹 지 구 역 | C18: =E18 -> 763 | E18: =C65+C111+C157+C203+C249+C295 -> 763 | F18: =F65+F111+F157+F203+F249+F295 -> 0 | G18: =SUM(E18:F18) -> 763
A20: 3. 입주 및 고용
A21: 업 종 별 | D21: 입주 기업체 수(개) | K21: 고용인원(명)
D22: 계 | E22: 가동 | F22: 휴.폐업 | G22: 전대 | H22: 건설중 | I22: 미착공/미입주 | K22: 계 | M22: 남 | O22: 여
A23: 음식료 | D23: =SUM(E23:J23) -> 70 | E23: =SUM(E70,E116,E162,E208,E254,E300) -> 68 | F23: =SUM(F70,F116,F162,F208,F254,F300) -> 0 | G23: =SUM(G70,G116,G162,G208,G254,G300) -> 2 | H23: =SUM(H70,H116,H162,H208,H254,H300) -> 0 | I23: =SUM(I70,I116,I162,I208,I254,I300) -> 0 | K23: =SUM(M23:P23) -> 2027 | M23: =SUM(M70,M116,M162,M208,M254,M300) -> 1259 | O23: =SUM(O70,O116,O162,O208,O254,O300) -> 768
A24: 섬유/의복 | D24: =SUM(E24:J24) -> 472 | E24: =SUM(E71,E117,E163,E209,E255,E301) -> 410 | F24: =SUM(F71,F117,F163,F209,F255,F301) -> 2 | G24: =SUM(G71,G117,G163,G209,G255,G301) -> 60 | H24: =SUM(H71,H117,H163,H209,H255,H301) -> 0 | I24: =SUM(I71,I117,I163,I209,I255,I301) -> 0 | K24: =SUM(M24:P24) -> 4700 | M24: =SUM(M71,M117,M163,M209,M255,M301) -> 2719 | O24: =SUM(O71,O117,O163,O209,O255,O301) -> 1981
A25: 목재/종이 | D25: =SUM(E25:J25) -> 205 | E25: =SUM(E72,E118,E164,E210,E256,E302) -> 199 | F25: =SUM(F72,F118,F164,F210,F256,F302) -> 2 | G25: =SUM(G72,G118,G164,G210,G256,G302) -> 4 | H25: =SUM(H72,H118,H164,H210,H256,H302) -> 0 | I25: =SUM(I72,I118,I164,I210,I256,I302) -> 0 | K25: =SUM(M25:P25) -> 2489 | M25: =SUM(M72,M118,M164,M210,M256,M302) -> 1807 | O25: =SUM(O72,O118,O164,O210,O256,O302) -> 682
A26: 석유화학 | D26: =SUM(E26:J26) -> 256 | E26: =SUM(E73,E119,E165,E211,E257,E303) -> 246 | F26: =SUM(F73,F119,F165,F211,F257,F303) -> 1 | G26: =SUM(G73,G119,G165,G211,G257,G303) -> 9 | H26: =SUM(H73,H119,H165,H211,H257,H303) -> 0 | I26: =SUM(I73,I119,I165,I211,I257,I303) -> 0 | K26: =SUM(M26:P26) -> 3124 | M26: =SUM(M73,M119,M165,M211,M257,M303) -> 2137 | O26: =SUM(O73,O119,O165,O211,O257,O303) -> 987
A27: 비금속 | D27: =SUM(E27:J27) -> 48 | E27: =SUM(E74,E120,E166,E212,E258,E304) -> 41 | F27: =SUM(F74,F120,F166,F212,F258,F304) -> 0 | G27: =SUM(G74,G120,G166,G212,G258,G304) -> 7 | H27: =SUM(H74,H120,H166,H212,H258,H304) -> 0 | I27: =SUM(I74,I120,I166,I212,I258,I304) -> 0 | K27: =SUM(M27:P27) -> 570 | M27: =SUM(M74,M120,M166,M212,M258,M304) -> 454 | O27: =SUM(O74,O120,O166,O212,O258,O304) -> 116
A28: 철강 | D28: =SUM(E28:J28) -> 103 | E28: =SUM(E75,E121,E167,E213,E259,E305) -> 101 | F28: =SUM(F75,F121,F167,F213,F259,F305) -> 0 | G28: =SUM(G75,G121,G167,G213,G259,G305) -> 2 | H28: =SUM(H75,H121,H167,H213,H259,H305) -> 0 | I28: =SUM(I75,I121,I167,I213,I259,I305) -> 0 | K28: =SUM(M28:P28) -> 1326 | M28: =SUM(M75,M121,M167,M213,M259,M305) -> 1096 | O28: =SUM(O75,O121,O167,O213,O259,O305) -> 230
A29: 기계 | D29: =SUM(E29:J29) -> 1333 | E29: =SUM(E76,E122,E168,E214,E260,E306) -> 1278 | F29: =SUM(F76,F122,F168,F214,F260,F306) -> 6 | G29: =SUM(G76,G122,G168,G214,G260,G306) -> 49 | H29: =SUM(H76,H122,H168,H214,H260,H306) -> 0 | I29: =SUM(I76,I122,I168,I214,I260,I306) -> 0 | K29: =SUM(M29:P29) -> 16494 | M29: =SUM(M76,M122,M168,M214,M260,M306) -> 13167 | O29: =SUM(O76,O122,O168,O214,O260,O306) -> 3327
A30: 전기/전자 | D30: =SUM(E30:J30) -> 361 | E30: =SUM(E77,E123,E169,E215,E261,E307) -> 351 | F30: =SUM(F77,F123,F169,F215,F261,F307) -> 3 | G30: =SUM(G77,G123,G169,G215,G261,G307) -> 6 | H30: =SUM(H77,H123,H169,H215,H261,H307) -> 1 | I30: =SUM(I77,I123,I169,I215,I261,I307) -> 0 | K30: =SUM(M30:P30) -> 6587 | M30: =SUM(M77,M123,M169,M215,M261,M307) -> 4747 | O30: =SUM(O77,O123,O169,O215,O261,O307) -> 1840
A31: 운송장비 | D31: =SUM(E31:J31) -> 317 | E31: =SUM(E78,E124,E170,E216,E262,E308) -> 299 | F31: =SUM(F78,F124,F170,F216,F262,F308) -> 1 | G31: =SUM(G78,G124,G170,G216,G262,G308) -> 17 | H31: =SUM(H78,H124,H170,H216,H262,H308) -> 0 | I31: =SUM(I78,I124,I170,I216,I262,I308) -> 0 | K31: =SUM(M31:P31) -> 9381 | M31: =SUM(M78,M124,M170,M216,M262,M308) -> 7293 | O31: =SUM(O78,O124,O170,O216,O262,O308) -> 2088
A32: 기타 | D32: =SUM(E32:J32) -> 40 | E32: =SUM(E79,E125,E171,E217,E263,E309) -> 39 | F32: =SUM(F79,F125,F171,F217,F263,F309) -> 0 | G32: =SUM(G79,G125,G171,G217,G263,G309) -> 1 | H32: =SUM(H79,H125,H171,H217,H263,H309) -> 0 | I32: =SUM(I79,I125,I171,I217,I263,I309) -> 0 | K32: =SUM(M32:P32) -> 563 | M32: =SUM(M79,M125,M171,M217,M263,M309) -> 418 | O32: =SUM(O79,O125,O171,O217,O263,O309) -> 145
A33: 비제조 | D33: =SUM(E33:J33) -> 257 | E33: =SUM(E80,E126,E172,E218,E264,E310) -> 98 | F33: =SUM(F80,F126,F172,F218,F264,F310) -> 5 | G33: =SUM(G80,G126,G172,G218,G264,G310) -> 152 | H33: =SUM(H80,H126,H172,H218,H264,H310) -> 0 | I33: =SUM(I80,I126,I172,I218,I264,I310) -> 2 | K33: =SUM(M33:P33) -> 1013 | M33: =SUM(M80,M126,M172,M218,M264,M310) -> 775 | O33: =SUM(O80,O126,O172,O218,O264,O310) -> 238
A34: 계 | D34: =SUM(D23:D33) -> 3462 | E34: =SUM(E23:E33) -> 3130 | F34: =SUM(F23:F33) -> 20 | G34: =SUM(G23:G33) -> 309 | H34: =SUM(H23:H33) -> 1 | I34: =SUM(I23:J33) -> 2 | K34: =SUM(M34:P34) -> 48274 | M34: =SUM(M23:N33) -> 35872 | O34: =SUM(O23:P33) -> 12402
A36: 4. 매출액
A37: (1)생산(백만원) | J37: (2)수출(백만원)
A38: (3)연간계획 | D38: (4)당분기실적 | G38: (5)누계실적 | J38: (6)연간계획 | M38: (7)당분기실적 | O38: (8)누계실적
A39: =SUM(A86,A132,A178,A224,A270,A316) -> 16966499 | D39: =SUM(D86,D132,D178,D224,D270,D316) -> 4756328.7 | G39: =SUM(G86,G132,G178,G224,G270,G316) -> 18920576 | J39: =SUM(J86,J132,J178,J224,J270,J316) -> 3725896 | M39: =SUM(M86,M132,M178,M224,M270,M316) -> 982859.13 | O39: =SUM(O86,O132,O178,O224,O270,O316) -> 3913831.7
A41: 5. 폐수종말처리시설 및 지원시설
A42: 폐수종말처리시설 | E42: 근 로 자 A P T | I42: 기 숙 사 | M42: 탁아소 및 유치원
A43: 처리용량 | C43: 총사업비 | E43: 세 대 수 | G43: 수용인원(명) | I43: 세 대 수 | K43: 수용인원(명) | M43: 세 대 수 | O43: 수용인원(명)
A44: 8만톤/일 | C44: 452억원
A46: 6. 단지 관리기관(관리사무소, 협의회, 협회 등)
A47: 주 소 | B47: 대구광역시 달서구 갈산동 123-4 | H47: 전화번호 | J47: 581 - 4744 | M47: 인 원 | O47: 49
A49: 대구성서산업단지 1차단지 입주현황
A51: 1.총괄표
A52: 총면적 (천㎡) | B52: 분양대상면적(천㎡) | E52: 입주 (개) | F52: 가동 (개) | G52: 가동율 (%) | H52: 고 용 (백 명) | K52: 생 산 (십억원) | N52: 수 출 (십억원)
B53: 분양 | C53: 미분양 | D53: 계 | H53: =H6 -> 전년4/4실적 | I53: 당분기 실 적 | J53: 전년 대비(%) | K53: =K6 -> 전년4/4실적 | L53: 당분기 실 적 | M53: 전년 대비(%) | N53: =N6 -> 전년4/4실적 | O53: 당분기 실 적 | P53: 전년 대비(%)
A54: =C60 -> 2687 | B54: =K60 -> 2009 | C54: =O60 -> 0 | D54: =SUM(B54:C54) -> 2009 | E54: =D81 -> 1095 | F54: =E81 -> 938 | G54: =F54/E54*100 -> 85.6621 | H54: 113 | I54: =ROUNDDOWN(K81,-1)/100 -> 118.4 | J54: =I54/H54*100 -> 104.77876 | K54: 871 | L54: =ROUNDDOWN(D86,-2)/1000 -> 913.6 | M54: =L54/K54*100 -> 104.89093 | N54: 90 | O54: =ROUNDDOWN(M86,-2)/1000 -> 140.3 | P54: =O54/N54*100 -> 155.88889
A56: 2. 조성 및 분양 (단위 : 천㎡)
A57: 구 분 | C57: 총 면 적 (천㎡) | E57: 조 성 대 상 면 적 | I57: 분 양 대 상 면 적 | P57: 평 당 분양가 (원/평)
E58: 조성 | F58: 미조성 | G58: 계 | I58: 분 양 면 적 | M58: 미 분 양 면 적
I59: 조성 | J59: 미조성 | K59: 계 | M59: 조성 | N59: 미조성 | O59: 계
A60: 계 | C60: =G60 -> 2687 | E60: =SUM(E61:E65) -> 2687 | F60: =SUM(F61:F65) -> 0 | G60: =SUM(E60:F60) -> 2687 | I60: =SUM(I61:I63) -> 2009 | J60: =SUM(J61:J63) -> 0 | K60: =SUM(K61:L63) -> 2009
A61: 산 업 용 지 | C61: =G61 -> 1886 | E61: 1886 | F61: 0 | G61: =SUM(E61:F61) -> 1886 | I61: 1897 | J61: 0 | K61: =SUM(I61:J61) -> 1897
A62: 복 합 용 지 | C62: =G62 -> 11 | E62: 11 | F62: 0 | G62: =SUM(E62:F62) -> 11 | I62: 11 | J62: 0 | K62: =SUM(I62:J62) -> 11
A63: 지 원 용 지 | C63: =G63 -> 141 | E63: 141 | F63: 0 | G63: =SUM(E63:F63) -> 141 | I63: 101 | J63: 0 | K63: =SUM(I63:J63) -> 101
A64: 공 공 용 지 | C64: =G64 -> 584 | E64: 584 | F64: 0 | G64: =SUM(E64:F64) -> 584
A65: 녹 지 구 역 | C65: =G65 -> 65 | E65: 65 | F65: 0 | G65: =SUM(E65:F65) -> 65
A67: 3. 입주 및 고용
A68: 업 종 별 | D68: 입주 기업체 수(개) | K68: 고용인원(명)
D69: 계 | E69: 가동 | F69: 휴.폐업 | G69: 전대 | H69: 건설중 | I69: 미착공/미입주 | K69: 계 | M69: 남 | O69: 여
A70: 음식료 | D70: =SUM(E70:J70) -> 36 | E70: =[1]업체수!D28 -> 34 | F70: =[1]업체수!E28 -> 0 | G70: =[1]업체수!F28 -> 2 | H70: =[1]업체수!G28 -> 0 | I70: =[1]업체수!H28 -> 0 | K70: =M70+O70 -> 1195 | M70: =SUM([1]종업원수!Q4,[1]종업원수!S4) -> 768 | O70: =SUM([1]종업원수!R4,[1]종업원수!T4) -> 427
A71: 섬유/의복 | D71: =SUM(E71:J71) -> 242 | E71: =[1]업체수!D29 -> 198 | F71: =[1]업체수!E29 -> 1 | G71: =[1]업체수!F29 -> 43 | H71: =[1]업체수!G29 -> 0 | I71: =[1]업체수!H29 -> 0 | K71: =M71+O71 -> 2279 | M71: =SUM([1]종업원수!Q5,[1]종업원수!S5) -> 1304 | O71: =SUM([1]종업원수!R5,[1]종업원수!T5) -> 975
A72: 목재/종이 | D72: =SUM(E72:J72) -> 46 | E72: =[1]업체수!D30 -> 41 | F72: =[1]업체수!E30 -> 2 | G72: =[1]업체수!F30 -> 3 | H72: =[1]업체수!G30 -> 0 | I72: =[1]업체수!H30 -> 0 | K72: =M72+O72 -> 563 | M72: =SUM([1]종업원수!Q6,[1]종업원수!S6) -> 416 | O72: =SUM([1]종업원수!R6,[1]종업원수!T6) -> 147
A73: 석유화학 | D73: =SUM(E73:J73) -> 83 | E73: =[1]업체수!D31 -> 77 | F73: =[1]업체수!E31 -> 0 | G73: =[1]업체수!F31 -> 6 | H73: =[1]업체수!G31 -> 0 | I73: =[1]업체수!H31 -> 0 | K73: =M73+O73 -> 940 | M73: =SUM([1]종업원수!Q7,[1]종업원수!S7) -> 645 | O73: =SUM([1]종업원수!R7,[1]종업원수!T7) -> 295
A74: 비금속 | D74: =SUM(E74:J74) -> 27 | E74: =[1]업체수!D32 -> 22 | F74: =[1]업체수!E32 -> 0 | G74: =[1]업체수!F32 -> 5 | H74: =[1]업체수!G32 -> 0 | I74: =[1]업체수!H32 -> 0 | K74: =M74+O74 -> 273 | M74: =SUM([1]종업원수!Q8,[1]종업원수!S8) -> 219 | O74: =SUM([1]종업원수!R8,[1]종업원수!T8) -> 54
A75: 철강 | D75: =SUM(E75:J75) -> 20 | E75: =[1]업체수!D33 -> 18 | F75: =[1]업체수!E33 -> 0 | G75: =[1]업체수!F33 -> 2 | H75: =[1]업체수!G33 -> 0 | I75: =[1]업체수!H33 -> 0 | K75: =M75+O75 -> 206 | M75: =SUM([1]종업원수!Q9,[1]종업원수!S9) -> 158 | O75: =SUM([1]종업원수!R9,[1]종업원수!T9) -> 48
A76: 기계 | D76: =SUM(E76:J76) -> 415 | E76: =[1]업체수!D34 -> 379 | F76: =[1]업체수!E34 -> 1 | G76: =[1]업체수!F34 -> 35 | H76: =[1]업체수!G34 -> 0 | I76: =[1]업체수!H34 -> 0 | K76: =M76+O76 -> 3307 | M76: =SUM([1]종업원수!Q10,[1]종업원수!S10) -> 2633 | O76: =SUM([1]종업원수!R10,[1]종업원수!T10) -> 674
A77: 전기/전자 | D77: =SUM(E77:J77) -> 73 | E77: =[1]업체수!D35 -> 70 | F77: =[1]업체수!E35 -> 1 | G77: =[1]업체수!F35 -> 1 | H77: =[1]업체수!G35 -> 1 | I77: =[1]업체수!H35 -> 0 | K77: =M77+O77 -> 1293 | M77: =SUM([1]종업원수!Q11,[1]종업원수!S11) -> 866 | O77: =SUM([1]종업원수!R11,[1]종업원수!T11) -> 427
A78: 운송장비 | D78: =SUM(E78:J78) -> 89 | E78: =[1]업체수!D36 -> 79 | F78: =[1]업체수!E36 -> 0 | G78: =[1]업체수!F36 -> 10 | H78: =[1]업체수!G36 -> 0 | I78: =[1]업체수!H36 -> 0 | K78: =M78+O78 -> 1538 | M78: =SUM([1]종업원수!Q12,[1]종업원수!S12) -> 1179 | O78: =SUM([1]종업원수!R12,[1]종업원수!T12) -> 359
A79: 기타 | D79: =SUM(E79:J79) -> 6 | E79: =[1]업체수!D37 -> 6 | F79: =[1]업체수!E37 -> 0 | G79: =[1]업체수!F37 -> 0 | H79: =[1]업체수!G37 -> 0 | I79: =[1]업체수!H37 -> 0 | K79: =M79+O79 -> 133 | M79: =SUM([1]종업원수!Q13,[1]종업원수!S13) -> 115 | O79: =SUM([1]종업원수!R13,[1]종업원수!T13) -> 18
A80: 비제조 | D80: =SUM(E80:J80) -> 58 | E80: =[1]업체수!D38 -> 14 | F80: =[1]업체수!E38 -> 1 | G80: =[1]업체수!F38 -> 43 | H80: =[1]업체수!G38 -> 0 | I80: =[1]업체수!H38 -> 0 | K80: =M80+O80 -> 114 | M80: =SUM([1]종업원수!Q14,[1]종업원수!S14) -> 90 | O80: =SUM([1]종업원수!R14,[1]종업원수!T14) -> 24
A81: 계 | D81: =SUM(E81:J81) -> 1095 | E81: =SUM(E70:E80) -> 938 | F81: =SUM(F70:F80) -> 6 | G81: =SUM(G70:G80) -> 150 | H81: =SUM(H70:H80) -> 1 | I81: =SUM(I70:J80) -> 0 | K81: =SUM(K70:L80) -> 11841 | M81: =SUM(M70:N80) -> 8393 | O81: =SUM(O70:P80) -> 3448
A83: 4. 매출액
A84: (1)생산(백만원) | J84: (2)수출(백만원)
A85: (3)연간계획 | D85: (4)당분기실적 | G85: (5)누계실적 | J85: (6)연간계획 | M85: (7)당분기실적 | O85: (8)누계실적
A86: 3046622 | D86: ='[1]분기별 매출액'!F6 -> 913688.25 | G86: ='[1]분기별 매출액'!G6 -> 3634723.9 | J86: 341381 | M86: ='[1]분기별 매출액'!F5 -> 140342.5 | O86: ='[1]분기별 매출액'!G5 -> 521690.5
A88: 5. 폐수종말처리시설 및 지원시설
A89: 폐수종말처리시설 | E89: 근 로 자 A P T | I89: 기 숙 사 | M89: 탁아소 및 유치원
A90: 처리용량 | C90: 총사업비 | E90: 세 대 수 | G90: 수용인원(명) | I90: 세 대 수 | K90: 수용인원(명) | M90: 세 대 수 | O90: 수용인원(명)
A91: 8만톤/일 | C91: 452억원
A93: 6. 단지 관리기관(관리사무소, 협의회, 협회 등)
A94: 주 소 | B94: 대구광역시 달서구 갈산동 123-4 | H94: 전화번호 | J94: 581 - 4744 | M94: 인 원 | O94: =O47 -> 49
A96: 대구성서산업단지 2차단지 입주현황
A98: 1.총괄표
A99: 총면적 (천㎡) | B99: 분양대상면적(천㎡) | E99: 입주 (개) | F99: 가동 (개) | G99: 가동율 (%) | H99: 고 용 (백 명) | K99: 생 산 (십억원) | N99: 수 출 (십억원)
B100: 분양 | C100: 미분양 | D100: 계 | H100: =H6 -> 전년4/4실적 | I100: 당분기 실 적 | J100: 전년 대비(%) | K100: =K6 -> 전년4/4실적 | L100: 당분기 실 적 | M100: 전년 대비(%) | N100: =N6 -> 전년4/4실적 | O100: 당분기 실 적 | P100: 전년 대비(%)
A101: =C107 -> 4701 | B101: =K107 -> 3584 | C101: =O107 -> 0 | D101: =SUM(B101:C101) -> 3584 | E101: =D127 -> 1277 | F101: =E127 -> 1155 | G101: =F101/E101*100 -> 90.446359 | H101: 178 | I101: =ROUNDDOWN(K127,-1)/100 -> 177.5 | J101: =I101/H101*100 -> 99.719101 | K101: 1692 | L101: =ROUNDDOWN(D132,-2)/1000 -> 1628.6 | M101: =L101/K101*100 -> 96.252955 | N101: 186 | O101: =ROUNDDOWN(M132,-2)/1000 -> 210.3 | P101: =O101/N101*100 -> 113.06452
A103: 2. 조성 및 분양 (단위 : 천㎡)
A104: 구 분 | C104: 총 면 적 | E104: 조 성 대 상 면 적 | I104: 분 양 대 상 면 적 | P104: 평 당 분양가 (원/평)
E105: 조성 | F105: 미조성 | G105: 계 | I105: 분 양 면 적 | M105: 미 분 양 면 적
I106: 조성 | J106: 미조성 | K106: 계 | M106: 조성 | N106: 미조성 | O106: 계
A107: 계 | C107: =G107 -> 4701 | E107: =SUM(E108:E111) -> 4701 | F107: 0 | G107: =SUM(E107:F107) -> 4701 | I107: =SUM(I108:I109) -> 3584 | J107: =SUM(J108:J109) -> 0 | K107: =SUM(K108:K109) -> 3584
A108: 산 업 용 지 | C108: =G108 -> 2996 | E108: 2996 | F108: 0 | G108: =SUM(E108:F108) -> 2996 | I108: 2996 | J108: 0 | K108: =SUM(I108:J108) -> 2996
A109: 지 원 용 지 | C109: =G109 -> 588 | E109: 588 | F109: 0 | G109: =SUM(E109:F109) -> 588 | I109: 588 | J109: 0 | K109: =SUM(I109:J109) -> 588
A110: 공 공 용 지 | C110: =G110 -> 1038 | E110: 1038 | F110: 0 | G110: =SUM(E110:F110) -> 1038
A111: 녹 지 구 역 | C111: =G111 -> 79 | E111: 79 | F111: 0 | G111: =SUM(E111:F111) -> 79
A113: 3. 입주 및 고용
A114: 업 종 별 | D114: 입주 기업체 수(개) | K114: 고용인원(명)
D115: 계 | E115: 가동 | F115: 휴.폐업 | G115: 전대 | H115: 건설중 | I115: 미착공/미입주 | K115: 계 | M115: 남 | O115: 여
A116: 음식료 | D116: =SUM(E116:J116) -> 17 | E116: =[1]업체수!K28 -> 17 | F116: =[1]업체수!L28 -> 0 | G116: =[1]업체수!M28 -> 0 | H116: =[1]업체수!N28 -> 0 | I116: =[1]업체수!O28 -> 0 | K116: =M116+O116 -> 516 | M116: =SUM([1]종업원수!W4,[1]종업원수!Y4) -> 297 | O116: =SUM([1]종업원수!X4,[1]종업원수!Z4) -> 219
A117: 섬유/의복 | D117: =SUM(E117:J117) -> 162 | E117: =[1]업체수!K29 -> 151 | F117: =[1]업체수!L29 -> 1 | G117: =[1]업체수!M29 -> 10 | H117: =[1]업체수!N29 -> 0 | I117: =[1]업체수!O29 -> 0 | K117: =M117+O117 -> 1987 | M117: =SUM([1]종업원수!W5,[1]종업원수!Y5) -> 1172 | O117: =SUM([1]종업원수!X5,[1]종업원수!Z5) -> 815
A118: 목재/종이 | D118: =SUM(E118:J118) -> 49 | E118: =[1]업체수!K30 -> 49 | F118: =[1]업체수!L30 -> 0 | G118: =[1]업체수!M30 -> 0 | H118: =[1]업체수!N30 -> 0 | I118: =[1]업체수!O30 -> 0 | K118: =M118+O118 -> 823 | M118: =SUM([1]종업원수!W6,[1]종업원수!Y6) -> 645 | O118: =SUM([1]종업원수!X6,[1]종업원수!Z6) -> 178
...
