Workbook

Sheet 입주현황보고
A2: 성서산업단지 입주현황보고 총괄(2021.4/4분기)
A4: 1.총괄표
A5: 총면적 (천㎡) | B5: 분양대상면적(천(㎡) | E5: 입주 (개) | F5: 가동 (개) | G5: 가동율 (%) | H5: 고 용 (백 명) | K5: 생 산 (십억원) | N5: 수 출 (백만불)
B6: 분양 | C6: 미분양 | D6: 계 | H6: 전년4/4 실적 | I6: 당분기 실 적 | J6: 전년 대비(%) | K6: 전년4/4 실적 | L6: 당분기 실 적 | M6: 전년 대비(%) | N6: 전년4/4 실적 | O6: 당분기 실 적 | P6: 전년 대비(%)
A7: =A52+A97+A142+A187+A229 -> 11458 | B7: =I13 -> 8363 | D7: =B7 -> 8363 | E7: =D32 -> 3145 | F7: =E32 -> 2787 | G7: =F7/E7*100 -> 88.616852 | H7: 486 | I7: =K32/100 -> 480.01 | J7: =I7/H7*100 -> 98.76749 | K7: 3895 | L7: =D37/1000 -> 4208.681 | M7: =L7/K7*100 -> 108.05343 | N7: 882 | O7: =M37/1000 -> 877.545 | P7: =O7/N7*100 -> 99.494898
A9: 2. 조성 및 분양 (단위 : 천㎡)
A10: 구 분 | C10: 총 면 적 (천㎡) | E10: 조 성 대 상 면 적 | I10: 분 양 대 상 면 적 | P10: 평당 분양가 (원/평)
E11: 조성 | F11: 미조성 | G11: 계 | I11: 분 양 면 적 | M11: 미 분 양 면 적
I12: 조성 | J12: 미조성 | K12: 계 | M12: 조성 | N12: 미조성 | O12: 계
A13: 계 | C13: =C58+C103+C148+C193+C235 -> 11458 | E13: =C13 -> 11458 | G13: =E13 -> 11458 | I13: =I58+I103+I148+I193+I235 -> 8363 | K13: =I13 -> 8363
A14: 산 업 용 지 | C14: =C59+C104+C149+C194+C236 -> 7352 | E14: =C14 -> 7352 | G14: =E14 -> 7352 | I14: =I59+I104+I149+I194+I236 -> 7352 | K14: =I14 -> 7352
A15: 지 원 용 지 | C15: =C60+C105+C150+C195+C237 -> 726 | E15: =C15 -> 726 | G15: =E15 -> 726 | I15: =I60+I105+I150+I195+I237 -> 726 | K15: =I15 -> 726
A16: 공 공 용 지 | C16: =C61+C106+C151+C196+C238 -> 2302 | E16: =C16 -> 2302 | G16: =E16 -> 2302 | I16: =I61+I106+I151+I196+I238 -> 285 | K16: =I16 -> 285
A17: 녹 지 구 역 | C17: =C62+C107+C152+C197+C239 -> 1078 | E17: =C17 -> 1078 | G17: =E17 -> 1078
A19: 3. 입주 및 고용
A20: 업 종 별 | D20: 입 주 기 업 체 수 ( 개 ) | K20: 고 용 인 원 ( 명 )
D21: 계 | E21: 가동 | F21: 휴.폐업 | G21: 전대 | H21: 건설중 | I21: 미착공 미입주 | K21: 계 | M21: 남 | O21: 여
A22: 음 식 료 | D22: =SUM(E22:J22) -> 65 | E22: =SUM(E67+E112+E157+E202) -> 60 | F22: =F67+F112+F157+F202 -> 0 | G22: =G67+G112+G157+G202 -> 5 | H22: =H67+H112+H157+H202 -> 0 | I22: =I67+I112+I157+I202 -> 0 | K22: =SUM(M22:P22) -> 1847 | M22: =SUM(M67+M112+M157+M202) -> 1092 | O22: =SUM(O67+O112+O157+O202) -> 755
A23: 섬 유 . 의 복 | D23: =SUM(E23:J23) -> 532 | E23: =SUM(E68+E113+E158+E204+E245) -> 418 | F23: =F68+F113+F158+F204+F245 -> 2 | G23: =G68+G113+G158+G204+G245 -> 112 | H23: =H68+H113+H158+H204+H245 -> 0 | I23: =I68+I113+I158+I204+I245 -> 0 | K23: =SUM(M23:P23) -> 5144 | M23: =SUM(M68+M113+M158+M204+M245) -> 2838 | O23: =SUM(O68+O113+O158+O204+O245) -> 2306
A24: 목 재 . 종 이 | D24: =SUM(E24:J24) -> 107 | E24: =SUM(E69+E114+E159) -> 98 | F24: =F69+F114+F159 -> 2 | G24: =G69+G114+G159 -> 6 | H24: =H69+H114+H159 -> 1 | I24: =I69+I114+I159 -> 0 | K24: =SUM(M24:P24) -> 1663 | M24: =SUM(M69+M114+M159) -> 1313 | O24: =SUM(O69+O114+O159) -> 350
A25: 석 유 화 학 | D25: =SUM(E25:J25) -> 250 | E25: =SUM(E70+E115+E160+E207) -> 231 | F25: =SUM(F70+F115+F160+F207) -> 2 | G25: =SUM(G70+G115+G160+G207) -> 16 | H25: =SUM(H70+H115+H160+H207) -> 1 | I25: =I70+I115+I160+I207 -> 0 | K25: =SUM(M25:P25) -> 2903 | M25: =SUM(M70+M115+M160+M207) -> 1992 | O25: =SUM(O70+O115+O160+O207) -> 911
A26: 비 금 속 | D26: =SUM(E26:J26) -> 58 | E26: =SUM(E71+E116+E161+E208) -> 42 | F26: =SUM(F71+F116+F161+F208) -> 0 | G26: =SUM(G71+G116+G161+G208) -> 16 | H26: =SUM(H71+H116+H161+H208) -> 0 | I26: =I71+I116+I161+I208 -> 0 | K26: =SUM(M26:P26) -> 753 | M26: =SUM(M71+M116+M161+M208) -> 529 | O26: =SUM(O71+O116+O161+O208) -> 224
A27: 철 강 | D27: =SUM(E27:J27) -> 102 | E27: =SUM(E72+E117+E162+E247) -> 95 | F27: =SUM(F72+F117+F162+F247) -> 0 | G27: =SUM(G72+G117+G162+G247) -> 7 | H27: =SUM(H72+H117+H162+H247) -> 0 | I27: =I72+I117+I162+I247 -> 0 | K27: =SUM(M27:P27) -> 1274 | M27: =SUM(M72+M117+M162+M247) -> 1046 | O27: =SUM(O72+O117+O162+O247) -> 228
A28: 기 계 | D28: =SUM(E28:J28) -> 1265 | E28: =E73+E118+E163+E203+E244 -> 1151 | F28: =F73+F118+F163+F203+F244 -> 10 | G28: =G73+G118+G163+G203+G244 -> 103 | H28: =H73+H118+H163+H203+H244 -> 1 | I28: =I73+I118+I163+I203+I244 -> 0 | K28: =SUM(M28:P28) -> 16714 | M28: =SUM(M73+M118+M163+M203+M244) -> 13174 | O28: =SUM(O73+O118+O163+O203+O244) -> 3540
A29: 전 기 . 전 자 | D29: =SUM(E29:J29) -> 331 | E29: =E74+E119+E164+E205+E248 -> 308 | F29: =F74+F119+F164+F205+F248 -> 6 | G29: =G74+G119+G164+G205+G248 -> 17 | H29: =H74+H119+H164+H205+H248 -> 0 | I29: =I74+I119+I164+I205+I248 -> 0 | K29: =SUM(M29:P29) -> 6163 | M29: =SUM(M74+M119+M164+M205+M248) -> 4493 | O29: =SUM(O74+O119+O164+O205+O248) -> 1670
A30: 운 송 장 비 | D30: =SUM(E30:J30) -> 336 | E30: =E75+E120+E165+E206+E246 -> 300 | F30: =F75+F120+F165+F206+F246 -> 2 | G30: =G75+G120+G165+G206+G246 -> 34 | H30: =H75+H120+H165+H206+H246 -> 0 | I30: =I75+I120+I165+I206+I246 -> 0 | K30: =SUM(M30:P30) -> 10425 | M30: =SUM(M75+M120+M165+M206+M246) -> 8110 | O30: =SUM(O75+O120+O165+O206+O246) -> 2315
A31: 기 타 | D31: =SUM(E31:J31) -> 99 | E31: =SUM(E76+E121+E166) -> 84 | F31: =F76+F121+F166 -> 2 | G31: =G76+G121+G166 -> 11 | H31: =H76+H121+H166+H207 -> 2 | I31: =I76+I121+I166 -> 0 | K31: =SUM(M31:P31) -> 1115 | M31: =SUM(M76+M121+M166) -> 874 | O31: =SUM(O76+O121+O166) -> 241
A32: 계 | D32: =SUM(D22:D31) -> 3145 | E32: =SUM(E22:E31) -> 2787 | F32: =SUM(F22:F31) -> 26 | G32: =SUM(G22:G31) -> 327 | H32: =SUM(H22:H31) -> 5 | I32: =SUM(I22:J31) -> 0 | K32: =SUM(K22:K31) -> 48001 | M32: =SUM(M22:M31) -> 35461 | O32: =SUM(O22:O31) -> 12540
A34: 4. 매출액
A35: (1)생 산 ( 백 만 원 ) | J35: (2)수 출 ( 천 불 )
A36: (3)연간계획 | D36: (4)당분기실적 | G36: (5)누계실적 | J36: (6)연간계획 | M36: (7)당분기실적 | O36: (8)누계실적
A37: =SUM(A82,A127,A172,A214,A254) -> 16558876 | D37: =SUM(D82,D127,D172,D214,D254) -> 4208681 | G37: =SUM(G82,G127,G172,G214,G254) -> 16448807 | J37: =SUM(J82,J127,J172,J214,J254) -> 4294000 | M37: =M82+M127+M172+M214+M254 -> 877545 | O37: =O82+O127+O172+O214+O254 -> 3642870
A39: 5. 폐수종말처리시설 및 지원시설
A40: 폐수종말처리시설 | E40: 근 로 자 A P T | I40: 기 숙 사 | M40: 탁아소 및 유치원
A41: 처리용량 | C41: 총사업비 | E41: 세 대 수 | G41: 수용인원(명) | I41: 세 대 수 | K41: 수용인원(명) | M41: 세 대 수 | O41: 수용인원(명)
A42: 8만톤/일 | C42: 452억원
A44: 6. 단지 관리기관(관리사무소, 협의회, 협회 등)
A45: 주 소 | B45: 대구광역시 달서구 갈산동 123-4 | H45: 전화번호 | J45: 581 - 4744 | M45: 인 원 | O45: 36
A47: 성서산업단지 입주현황보고 1차단지
A49: 1.총괄표
...
