Workbook

Sheet 입주현황보고
A2: 성서산업단지 입주현황보고 총괄(2021.4/4분기)
A4: 1.총괄표
A5: 총면적 (천㎡) | B5: 분양대상면적(천(㎡) | E5: 입주 (개) | F5: 가동 (개) | G5: 가동율 (%) | H5: 고 용 (백 명) | K5: 생 산 (십억원) | N5: 수 출 (백만불)
B6: 분양 | C6: 미분양 | D6: 계 | H6: 전년4/4 실적 | I6: 당분기 실 적 | J6: 전년 대비(%) | K6: 전년4/4 실적 | L6: 당분기 실 적 | M6: 전년 대비(%) | N6: 전년4/4 실적 | O6: 당분기 실 적 | P6: 전년 대비(%)
A7: =A52+A97+A142+A187+A229 -> 11458 | B7: =I13 -> 8363 | D7: =B7 -> 8363 | E7: =D32 -> 3145 | F7: =E32 -> 2787 | G7: =F7/E7*100 -> 88.616852 | H7: 486 | I7: =K32/100 -> 480.01 | J7: =I7/H7*100 -> 98.76749 | K7: 3895 | L7: =D37/1000 -> 4208.681 | M7: =L7/K7*100 -> 108.05343 | N7: 882 | O7: =M37/1000 -> 877.545 | P7: =O7/N7*100 -> 99.494898
A9: 2. 조성 및 분양 (단위 : 천㎡)
A10: 구 분 | C10: 총 면 적 (천㎡) | E10: 조 성 대 상 면 적 | I10: 분 양 대 상 면 적 | P10: 평당 분양가 (원/평)
E11: 조성 | F11: 미조성 | G11: 계 | I11: 분 양 면 적 | M11: 미 분 양 면 적
I12: 조성 | J12: 미조성 | K12: 계 | M12: 조성 | N12: 미조성 | O12: 계
A13: 계 | C13: =C58+C103+C148+C193+C235 -> 11458 | E13: =C13 -> 11458 | G13: =E13 -> 11458 | I13: =I58+I103+I148+I193+I235 -> 8363 | K13: =I13 -> 8363
A14: 산 업 용 지 | C14: =C59+C104+C149+C194+C236 -> 7352 | E14: =C14 -> 7352 | G14: =E14 -> 7352 | I14: =I59+I104+I149+I194+I236 -> 7352 | K14: =I14 -> 7352
A15: 지 원 용 지 | C15: =C60+C105+C150+C195+C237 -> 726 | E15: =C15 -> 726 | G15: =E15 -> 726 | I15: =I60+I105+I150+I195+I237 -> 726 | K15: =I15 -> 726
A16: 공 공 용 지 | C16: =C61+C106+C151+C196+C238 -> 2302 | E16: =C16 -> 2302 | G16: =E16 -> 2302 | I16: =I61+I106+I151+I196+I238 -> 285 | K16: =I16 -> 285
A17: 녹 지 구 역 | C17: =C62+C107+C152+C197+C239 -> 1078 | E17: =C17 -> 1078 | G17: =E17 -> 1078
A19: 3. 입주 및 고용
A20: 업 종 별 | D20: 입 주 기 업 체 수 ( 개 ) | K20: 고 용 인 원 ( 명 )
D21: 계 | E21: 가동 | F21: 휴.폐업 | G21: 전대 | H21: 건설중 | I21: 미착공 미입주 | K21: 계 | M21: 남 | O21: 여
A22: 음 식 료 | D22: =SUM(E22:J22) -> 65 | E22: =SUM(E67+E112+E157+E202) -> 60 | F22: =F67+F112+F157+F202 -> 0 | G22: =G67+G112+G157+G202 -> 5 | H22: =H67+H112+H157+H202 -> 0 | I22: =I67+I112+I157+I202 -> 0 | K22: =SUM(M22:P22) -> 1847 | M22: =SUM(M67+M112+M157+M202) -> 1092 | O22: =SUM(O67+O112+O157+O202) -> 755
A23: 섬 유 . 의 복 | D23: =SUM(E23:J23) -> 532 | E23: =SUM(E68+E113+E158+E204+E245) -> 418 | F23: =F68+F113+F158+F204+F245 -> 2 | G23: =G68+G113+G158+G204+G245 -> 112 | H23: =H68+H113+H158+H204+H245 -> 0 | I23: =I68+I113+I158+I204+I245 -> 0 | K23: =SUM(M23:P23) -> 5144 | M23: =SUM(M68+M113+M158+M204+M245) -> 2838 | O23: =SUM(O68+O113+O158+O204+O245) -> 2306
A24: 목 재 . 종 이 | D24: =SUM(E24:J24) -> 107 | E24: =SUM(E69+E114+E159) -> 98 | F24: =F69+F114+F159 -> 2 | G24: =G69+G114+G159 -> 6 | H24: =H69+H114+H159 -> 1 | I24: =I69+I114+I159 -> 0 | K24: =SUM(M24:P24) -> 1663 | M24: =SUM(M69+M114+M159) -> 1313 | O24: =SUM(O69+O114+O159) -> 350
A25: 석 유 화 학 | D25: =SUM(E25:J25) -> 250 | E25: =SUM(E70+E115+E160+E207) -> 231 | F25: =SUM(F70+F115+F160+F207) -> 2 | G25: =SUM(G70+G115+G160+G207) -> 16 | H25: =SUM(H70+H115+H160+H207) -> 1 | I25: =I70+I115+I160+I207 -> 0 | K25: =SUM(M25:P25) -> 2903 | M25: =SUM(M70+M115+M160+M207) -> 1992 | O25: =SUM(O70+O115+O160+O207) -> 911
A26: 비 금 속 | D26: =SUM(E26:J26) -> 58 | E26: =SUM(E71+E116+E161+E208) -> 42 | F26: =SUM(F71+F116+F161+F208) -> 0 | G26: =SUM(G71+G116+G161+G208) -> 16 | H26: =SUM(H71+H116+H161+H208) -> 0 | I26: =I71+I116+I161+I208 -> 0 | K26: =SUM(M26:P26) -> 753 | M26: =SUM(M71+M116+M161+M208) -> 529 | O26: =SUM(O71+O116+O161+O208) -> 224
A27: 철 강 | D27: =SUM(E27:J27) -> 102 | E27: =SUM(E72+E117+E162+E247) -> 95 | F27: =SUM(F72+F117+F162+F247) -> 0 | G27: =SUM(G72+G117+G162+G247) -> 7 | H27: =SUM(H72+H117+H162+H247) -> 0 | I27: =I72+I117+I162+I247 -> 0 | K27: =SUM(M27:P27) -> 1274 | M27: =SUM(M72+M117+M162+M247) -> 1046 | O27: =SUM(O72+O117+O162+O247) -> 228
A28: 기 계 | D28: =SUM(E28:J28) -> 1265 | E28: =E73+E118+E163+E203+E244 -> 1151 | F28: =F73+F118+F163+F203+F244 -> 10 | G28: =G73+G118+G163+G203+G244 -> 103 | H28: =H73+H118+H163+H203+H244 -> 1 | I28: =I73+I118+I163+I203+I244 -> 0 | K28: =SUM(M28:P28) -> 16714 | M28: =SUM(M73+M118+M163+M203+M244) -> 13174 | O28: =SUM(O73+O118+O163+O203+O244) -> 3540
A29: 전 기 . 전 자 | D29: =SUM(E29:J29) -> 331 | E29: =E74+E119+E164+E205+E248 -> 308 | F29: =F74+F119+F164+F205+F248 -> 6 | G29: =G74+G119+G164+G205+G248 -> 17 | H29: =H74+H119+H164+H205+H248 -> 0 | I29: =I74+I119+I164+I205+I248 -> 0 | K29: =SUM(M29:P29) -> 6163 | M29: =SUM(M74+M119+M164+M205+M248) -> 4493 | O29: =SUM(O74+O119+O164+O205+O248) -> 1670
A30: 운 송 장 비 | D30: =SUM(E30:J30) -> 336 | E30: =E75+E120+E165+E206+E246 -> 300 | F30: =F75+F120+F165+F206+F246 -> 2 | G30: =G75+G120+G165+G206+G246 -> 34 | H30: =H75+H120+H165+H206+H246 -> 0 | I30: =I75+I120+I165+I206+I246 -> 0 | K30: =SUM(M30:P30) -> 10425 | M30: =SUM(M75+M120+M165+M206+M246) -> 8110 | O30: =SUM(O75+O120+O165+O206+O246) -> 2315
A31: 기 타 | D31: =SUM(E31:J31) -> 99 | E31: =SUM(E76+E121+E166) -> 84 | F31: =F76+F121+F166 -> 2 | G31: =G76+G121+G166 -> 11 | H31: =H76+H121+H166+H207 -> 2 | I31: =I76+I121+I166 -> 0 | K31: =SUM(M31:P31) -> 1115 | M31: =SUM(M76+M121+M166) -> 874 | O31: =SUM(O76+O121+O166) -> 241
A32: 계 | D32: =SUM(D22:D31) -> 3145 | E32: =SUM(E22:E31) -> 2787 | F32: =SUM(F22:F31) -> 26 | G32: =SUM(G22:G31) -> 327 | H32: =SUM(H22:H31) -> 5 | I32: =SUM(I22:J31) -> 0 | K32: =SUM(K22:K31) -> 48001 | M32: =SUM(M22:M31) -> 35461 | O32: =SUM(O22:O31) -> 12540
A34: 4. 매출액
A35: (1)생 산 ( 백 만 원 ) | J35: (2)수 출 ( 천 불 )
A36: (3)연간계획 | D36: (4)당분기실적 | G36: (5)누계실적 | J36: (6)연간계획 | M36: (7)당분기실적 | O36: (8)누계실적
A37: =SUM(A82,A127,A172,A214,A254) -> 16558876 | D37: =SUM(D82,D127,D172,D214,D254) -> 4208681 | G37: =SUM(G82,G127,G172,G214,G254) -> 16448807 | J37: =SUM(J82,J127,J172,J214,J254) -> 4294000 | M37: =M82+M127+M172+M214+M254 -> 877545 | O37: =O82+O127+O172+O214+O254 -> 3642870
A39: 5. 폐수종말처리시설 및 지원시설
A40: 폐수종말처리시설 | E40: 근 로 자 A P T | I40: 기 숙 사 | M40: 탁아소 및 유치원
A41: 처리용량 | C41: 총사업비 | E41: 세 대 수 | G41: 수용인원(명) | I41: 세 대 수 | K41: 수용인원(명) | M41: 세 대 수 | O41: 수용인원(명)
A42: 8만톤/일 | C42: 452억원
A44: 6. 단지 관리기관(관리사무소, 협의회, 협회 등)
A45: 주 소 | B45: 대구광역시 달서구 갈산동 123-4 | H45: 전화번호 | J45: 581 - 4744 | M45: 인 원 | O45: 36
A47: 성서산업단지 입주현황보고 1차단지
A49: 1.총괄표
A50: 총면적 (천㎡) | B50: 분양대상면적(천(㎡) | E50: 입주 (개) | F50: 가동 (개) | G50: 가동율 (%) | H50: 고 용 (백 명) | K50: 생 산 (십억원) | N50: 수 출 (백만불)
B51: 분양 | C51: 미분양 | D51: 계 | H51: =H6 -> 전년4/4 실적 | I51: 당분기 실 적 | J51: 전년 대비(%) | K51: =K6 -> 전년4/4 실적 | L51: 당분기 실 적 | M51: 전년 대비(%) | N51: =N6 -> 전년4/4 실적 | O51: 당분기 실 적 | P51: 전년 대비(%)
A52: =C58 -> 2687 | B52: =K58 -> 1998 | D52: =B52 -> 1998 | E52: =D77 -> 1014 | F52: =E77 -> 844 | G52: =F52/E52*100 -> 83.234714 | H52: 108 | I52: =K77/100 -> 111.45 | J52: =I52/H52*100 -> 103.19444 | K52: 665 | L52: =D82/1000 -> 799.15 | M52: =L52/K52*100 -> 120.17293 | N52: 70 | O52: =M82/1000 -> 92.936 | P52: =O52/N52*100 -> 132.76571
A54: 2. 조성 및 분양 (단위 : 천㎡)
A55: 구 분 | C55: 총 면 적 (천㎡) | E55: 조 성 대 상 면 적 | I55: 분 양 대 상 면 적 | P55: 평 당 분양가 (원/평)
E56: 조성 | F56: 미조성 | G56: 계 | I56: 분 양 면 적 | M56: 미 분 양 면 적
I57: 조성 | J57: 미조성 | K57: 계 | M57: 조성 | N57: 미조성 | O57: 계
A58: 계 | C58: =C59+C60+C61+C62 -> 2687 | E58: 2721 | G58: =E58 -> 2721 | I58: =I59+I60 -> 1998 | K58: =K59+K60 -> 1998
A59: 산 업 용 지 | C59: 1897 | E59: =C59 -> 1897 | G59: =E59 -> 1897 | I59: 1897 | K59: =I59 -> 1897
A60: 지 원 용 지 | C60: 101 | E60: =C60 -> 101 | G60: =E60 -> 101 | I60: 101 | K60: =I60 -> 101
A61: 공 공 용 지 | C61: 350 | E61: =C61 -> 350 | G61: =E61 -> 350
A62: 녹 지 구 역 | C62: 339 | E62: =C62 -> 339 | G62: =E62 -> 339
A64: 3. 입주 및 고용
A65: 업 종 별 | D65: 입 주 기 업 체 수 ( 개 ) | K65: 고 용 인 원 ( 명 )
D66: 계 | E66: 가동 | F66: 휴.폐업 | G66: 전대 | H66: 건설중 | I66: 미착공 미입주 | K66: 계 | M66: 남 | O66: 여
A67: 음 식 료 | D67: =SUM(E67:J67) -> 31 | E67: =[1]업체수!T5 -> 28 | F67: =[1]업체수!U5 -> 0 | G67: =[1]업체수!V5 -> 3 | H67: =[1]업체수!W5 -> 0 | I67: =[1]업체수!X5 -> 0 | K67: =M67+O67 -> 1177 | M67: =[1]종업원수!R8+[1]종업원수!T8 -> 727 | O67: =[1]종업원수!S8+[1]종업원수!U8 -> 450
A68: 섬 유 . 의 복 | D68: =SUM(E68:J68) -> 258 | E68: =[1]업체수!T6 -> 189 | F68: =[1]업체수!U6 -> 1 | G68: =[1]업체수!V6 -> 68 | H68: =[1]업체수!W6 -> 0 | I68: =[1]업체수!X6 -> 0 | K68: =M68+O68 -> 2234 | M68: =[1]종업원수!R9+[1]종업원수!T9 -> 1208 | O68: =[1]종업원수!S9+[1]종업원수!U9 -> 1026
A69: 목 재 . 종 이 | D69: =SUM(E69:J69) -> 48 | E69: =[1]업체수!T7 -> 41 | F69: =[1]업체수!U7 -> 2 | G69: =[1]업체수!V7 -> 4 | H69: =[1]업체수!W7 -> 1 | I69: =[1]업체수!X7 -> 0 | K69: =M69+O69 -> 584 | M69: =[1]종업원수!R10+[1]종업원수!T10 -> 424 | O69: =[1]종업원수!S10+[1]종업원수!U10 -> 160
A70: 석 유 화 학 | D70: =SUM(E70:J70) -> 83 | E70: =[1]업체수!T8 -> 72 | F70: =[1]업체수!U8 -> 1 | G70: =[1]업체수!V8 -> 10 | H70: =[1]업체수!W8 -> 0 | I70: =[1]업체수!X8 -> 0 | K70: =M70+O70 -> 779 | M70: =[1]종업원수!R11+[1]종업원수!T11 -> 520 | O70: =[1]종업원수!S11+[1]종업원수!U11 -> 259
A71: 비 금 속 | D71: =SUM(E71:J71) -> 29 | E71: =[1]업체수!T9 -> 23 | F71: =[1]업체수!U9 -> 0 | G71: =[1]업체수!V9 -> 6 | H71: =[1]업체수!W9 -> 0 | I71: =[1]업체수!X9 -> 0 | K71: =M71+O71 -> 279 | M71: =[1]종업원수!R12+[1]종업원수!T12 -> 220 | O71: =[1]종업원수!S12+[1]종업원수!U12 -> 59
A72: 철 강 | D72: =SUM(E72:J72) -> 18 | E72: =[1]업체수!T10 -> 15 | F72: =[1]업체수!U10 -> 0 | G72: =[1]업체수!V10 -> 3 | H72: =[1]업체수!W10 -> 0 | I72: =[1]업체수!X10 -> 0 | K72: =M72+O72 -> 176 | M72: =[1]종업원수!R13+[1]종업원수!T13 -> 137 | O72: =[1]종업원수!S13+[1]종업원수!U13 -> 39
A73: 기 계 | D73: =SUM(E73:J73) -> 375 | E73: =[1]업체수!T11 -> 327 | F73: =[1]업체수!U11 -> 2 | G73: =[1]업체수!V11 -> 45 | H73: =[1]업체수!W11 -> 1 | I73: =[1]업체수!X11 -> 0 | K73: =M73+O73 -> 3051 | M73: =[1]종업원수!R14+[1]종업원수!T14 -> 2368 | O73: =[1]종업원수!S14+[1]종업원수!U14 -> 683
A74: 전 기 . 전 자 | D74: =SUM(E74:J74) -> 55 | E74: =[1]업체수!T12 -> 52 | F74: =[1]업체수!U12 -> 0 | G74: =[1]업체수!V12 -> 3 | H74: =[1]업체수!W12 -> 0 | I74: =[1]업체수!X12 -> 0 | K74: =M74+O74 -> 710 | M74: =[1]종업원수!R15+[1]종업원수!T15 -> 423 | O74: =[1]종업원수!S15+[1]종업원수!U15 -> 287
A75: 운 송 장 비 | D75: =SUM(E75:J75) -> 99 | E75: =[1]업체수!T13 -> 85 | F75: =[1]업체수!U13 -> 0 | G75: =[1]업체수!V13 -> 14 | H75: =[1]업체수!W13 -> 0 | I75: =[1]업체수!X13 -> 0 | K75: =M75+O75 -> 1976 | M75: =[1]종업원수!R16+[1]종업원수!T16 -> 1496 | O75: =[1]종업원수!S16+[1]종업원수!U16 -> 480
A76: 기 타 | D76: =SUM(E76:J76) -> 18 | E76: =[1]업체수!T14 -> 12 | F76: =[1]업체수!U14 -> 0 | G76: =[1]업체수!V14 -> 5 | H76: =[1]업체수!W14 -> 1 | I76: =[1]업체수!X14 -> 0 | K76: =M76+O76 -> 179 | M76: =[1]종업원수!R17+[1]종업원수!T17 -> 148 | O76: =[1]종업원수!S17+[1]종업원수!U17 -> 31
A77: 계 | D77: =SUM(E77:J77) -> 1014 | E77: =SUM(E67:E76) -> 844 | F77: =SUM(F67:F76) -> 6 | G77: =SUM(G67:G76) -> 161 | H77: =SUM(H67:H76) -> 3 | I77: =SUM(I67:I76) -> 0 | K77: =M77+O77 -> 11145 | M77: =[1]종업원수!R18+[1]종업원수!T18 -> 7671 | O77: =[1]종업원수!S18+[1]종업원수!U18 -> 3474
A79: 4. 매출액
A80: (1)생 산 ( 백 만 원 ) | J80: (2)수 출 ( 천 불 )
A81: (3)연간계획 | D81: (4)당분기실적 | G81: (5)누계실적 | J81: (6)연간계획 | M81: (7)당분기실적 | O81: (8)누계실적
A82: 2947598 | D82: 799150 | G82: ='[1]분기별 매출액'!H5 -> 2986885 | J82: 753000 | M82: 92936 | O82: ='[1]분기별 매출액'!H6 -> 334688
A84: 5. 폐수종말처리시설 및 지원시설
A85: 폐수종말처리시설 | E85: 근 로 자 A P T | I85: 기 숙 사 | M85: 탁아소 및 유치원
A86: 처리용량 | C86: 총사업비 | E86: 세 대 수 | G86: 수용인원(명) | I86: 세 대 수 | K86: 수용인원(명) | M86: 세 대 수 | O86: 수용인원(명)
A87: 8만톤/일 | C87: 452억원
A89: 6. 단지 관리기관(관리사무소, 협의회, 협회 등)
A90: 주 소 | B90: 대구광역시 달서구 갈산동 123-4 | H90: 전화번호 | J90: 581 - 4744 | M90: 인 원 | O90: 36
A92: 성서산업단지 입주현황보고 2차단지
A94: 1.총괄표
A95: 총면적 (천㎡) | B95: 분양대상면적(천(㎡) | E95: 입주 (개) | F95: 가동 (개) | G95: 가동율 (%) | H95: 고 용 (백 명) | K95: 생 산 (십억원) | N95: 수 출 (백만불)
B96: 분양 | C96: 미분양 | D96: 계 | H96: =H6 -> 전년4/4 실적 | I96: 당분기 실 적 | J96: 전년 대비(%) | K96: =K6 -> 전년4/4 실적 | L96: 당분기 실 적 | M96: 전년 대비(%) | N96: =N6 -> 전년4/4 실적 | O96: 당분기 실 적 | P96: 전년 대비(%)
A97: =C103 -> 4101 | B97: =K103 -> 3169 | D97: =B97 -> 3169 | E97: =D122 -> 1209 | F97: =E122 -> 1079 | G97: =F97/E97*100 -> 89.247312 | H97: 200 | I97: =K122/100 -> 185.82 | J97: =I97/H97*100 -> 92.91 | K97: 1531 | L97: =D127/1000 -> 1546.469 | M97: =L97/K97*100 -> 101.01039 | N97: 254 | O97: =M127/1000 -> 192.499 | P97: =O97/N97*100 -> 75.787008
A99: 2. 조성 및 분양 (단위 : 천㎡)
A100: 구 분 | C100: 총 면 적 (천㎡) | E100: 조 성 대 상 면 적 | I100: 분 양 대 상 면 적 | P100: 평 당 분양가 (원/평)
E101: 조성 | F101: 미조성 | G101: 계 | I101: 분 양 면 적 | M101: 미 분 양 면 적
I102: 조성 | J102: 미조성 | K102: 계 | M102: 조성 | N102: 미조성 | O102: 계
A103: 계 | C103: =C104+C105+C106+C107 -> 4101 | E103: =C103 -> 4101 | G103: =E103 -> 4101 | I103: =I104+I105 -> 3169 | K103: =K104+K105 -> 3169
A104: 산 업 용 지 | C104: 2979 | E104: =C104 -> 2979 | G104: =C104 -> 2979 | I104: 2979 | K104: =I104 -> 2979
A105: 지 원 용 지 | C105: 190 | E105: =C105 -> 190 | G105: =C105 -> 190 | I105: =G105 -> 190 | K105: =I105 -> 190
A106: 공 공 용 지 | C106: 790 | E106: =C106 -> 790 | G106: =C106 -> 790
A107: 녹 지 구 역 | C107: 142 | E107: 142 | G107: 142
A109: 3. 입주 및 고용
A110: 업 종 별 | D110: 입 주 기 업 체 수 ( 개 ) | K110: 고 용 인 원 ( 명 )
D111: 계 | E111: 가동 | F111: 휴.폐업 | G111: 전대 | H111: 건설중 | I111: 미착공 미입주 | K111: 계 | M111: 남 | O111: 여
A112: 음 식 료 | D112: =SUM(E112:J112) -> 17 | E112: =[1]업체수!AA5 -> 15 | F112: =[1]업체수!AB5 -> 0 | G112: =[1]업체수!AC5 -> 2 | H112: =[1]업체수!AD5 -> 0 | I112: =[1]업체수!AE5 -> 0 | K112: =M112+O112 -> 437 | M112: =[1]종업원수!X8+[1]종업원수!Z8 -> 225 | O112: =[1]종업원수!Y8+[1]종업원수!AA8 -> 212
A113: 섬 유 . 의 복 | D113: =SUM(E113:J113) -> 195 | E113: =[1]업체수!AA6 -> 163 | F113: =[1]업체수!AB6 -> 1 | G113: =[1]업체수!AC6 -> 31 | H113: =[1]업체수!AD6 -> 0 | I113: =[1]업체수!AE6 -> 0 | K113: =M113+O113 -> 2228 | M113: =[1]종업원수!X9+[1]종업원수!Z9 -> 1273 | O113: =[1]종업원수!Y9+[1]종업원수!AA9 -> 955
A114: 목 재 . 종 이 | D114: =SUM(E114:J114) -> 43 | E114: =[1]업체수!AA7 -> 43 | F114: =[1]업체수!AB7 -> 0 | G114: =[1]업체수!AC7 -> 0 | H114: =[1]업체수!AD7 -> 0 | I114: =[1]업체수!AE7 -> 0 | K114: =M114+O114 -> 945 | M114: =[1]종업원수!X10+[1]종업원수!Z10 -> 775 | O114: =[1]종업원수!Y10+[1]종업원수!AA10 -> 170
A115: 석 유 화 학 | D115: =SUM(E115:J115) -> 104 | E115: =[1]업체수!AA8 -> 100 | F115: =[1]업체수!AB8 -> 1 | G115: =[1]업체수!AC8 -> 3 | H115: =[1]업체수!AD8 -> 0 | I115: =[1]업체수!AE8 -> 0 | K115: =M115+O115 -> 1476 | M115: =[1]종업원수!X11+[1]종업원수!Z11 -> 1035 | O115: =[1]종업원수!Y11+[1]종업원수!AA11 -> 441
A116: 비 금 속 | D116: =SUM(E116:J116) -> 17 | E116: =[1]업체수!AA9 -> 10 | F116: =[1]업체수!AB9 -> 0 | G116: =[1]업체수!AC9 -> 7 | H116: =[1]업체수!AD9 -> 0 | I116: =[1]업체수!AE9 -> 0 | K116: =M116+O116 -> 381 | M116: =[1]종업원수!X12+[1]종업원수!Z12 -> 245 | O116: =[1]종업원수!Y12+[1]종업원수!AA12 -> 136
A117: 철 강 | D117: =SUM(E117:J117) -> 52 | E117: =[1]업체수!AA10 -> 48 | F117: =[1]업체수!AB10 -> 0 | G117: =[1]업체수!AC10 -> 4 | H117: =[1]업체수!AD10 -> 0 | I117: =[1]업체수!AE10 -> 0 | K117: =M117+O117 -> 653 | M117: =[1]종업원수!X13+[1]종업원수!Z13 -> 563 | O117: =[1]종업원수!Y13+[1]종업원수!AA13 -> 90
A118: 기 계 | D118: =SUM(E118:J118) -> 484 | E118: =[1]업체수!AA11 -> 435 | F118: =[1]업체수!AB11 -> 4 | G118: =[1]업체수!AC11 -> 45 | H118: =[1]업체수!AD11 -> 0 | I118: =[1]업체수!AE11 -> 0 | K118: =M118+O118 -> 5410 | M118: =[1]종업원수!X14+[1]종업원수!Z14 -> 4277 | O118: =[1]종업원수!Y14+[1]종업원수!AA14 -> 1133
...
